BEGIN:VCALENDAR
VERSION:2.0
PRODID:-//ChamberMaster//Event Calendar 2.0//EN
METHOD:PUBLISH
X-PUBLISHED-TTL:P1H
REFRESH-INTERVAL:P1H
CALSCALE:GREGORIAN
BEGIN:VTIMEZONE
TZID:America/Los_Angeles
BEGIN:DAYLIGHT
RRULE:FREQ=YEARLY;BYMONTH=3;BYDAY=2SU
DTSTART:20070101T000000
TZOFFSETFROM:-0800
TZOFFSETTO:-0700
TZNAME:Pacific Daylight Time
END:DAYLIGHT
BEGIN:STANDARD
RRULE:FREQ=YEARLY;BYMONTH=11;BYDAY=1SU
DTSTART:20070101T000000
TZOFFSETFROM:-0700
TZOFFSETTO:-0800
TZNAME:Pacific Standard Time
END:STANDARD
END:VTIMEZONE
BEGIN:VEVENT
DTSTART;TZID=America/Los_Angeles:20260626T090000
DTEND;TZID=America/Los_Angeles:20260626T113000
X-MICROSOFT-CDO-ALLDAYEVENT:FALSE
SUMMARY:PMAR Managing Broker Forum - AI\, ODOJ & What Brokers Need to Know
DESCRIPTION:Join fellow PMAR Managing Brokers in person at the George Fox University Portland Center for a forum on AI leadership and consumer protection risk\, two areas shaping brokerage operations today.\n\nSession 1: AI Leadership & Brokerage Guardrails Eric Post\, founder of Huzi\, will focus on what brokers should actually be training agents on when it comes to AI\, along with practical guidance on implementing policies\, protocols\, and guardrails at the brokerage level.\n\nSession 2: Consumer Protection & Scam Prevention Hear from the Oregon Department of Justice on real-world cases\, warning signs\, and strategies to help brokers and agents prevent fraud and better protect clients. Walk away with practical tools you can implement immediately.\n\nSpeakers:\n\nEric Post\, Founder of Huzi\nEric Post is a real estate and business consultant with 20+ years of experience. He has been involved in over 10\,000 transactions totaling $4B+ in sales and has owned multiple real estate and mortgage companies. Today\, he helps businesses leverage AI to improve efficiency and client experience while maintaining the human element of real estate.\n\nMadeline Alvarado\, Consumer Advocacy Manager\, Oregon Department of Justice\nMadeline oversees the DOJ's Consumer Hotline and Complaint Program\, focusing on protecting Oregonians from fraud and strengthening consumer accountability. She previously led licensing\, education\, and complaint oversight at the Oregon Real Estate Agency and brings deep expertise in housing-related consumer protection.\n\nAlhena Herrera Martin\, Consumer Outreach Coordinator\, Oregon Department of Justice\nAlhena leads statewide outreach efforts to increase consumer awareness and help communities identify fraud and deceptive practices. Her background includes systems coordination\, training\, and cross-sector collaboration\, with a focus on delivering clear\, practical consumer protection resources.
X-ALT-DESC;FMTTYPE=text/html:<!DOCTYPE html><html><head><title></title></head><body aria-disabled="false"><p>Join fellow PMAR Managing Brokers in person at the George Fox University Portland Center for a forum on AI leadership and consumer protection risk\, two areas shaping brokerage operations today.<br><br><strong fr-original-style="" style="font-weight: 700\;">Session 1</strong>: AI Leadership &amp\; Brokerage Guardrails Eric Post\, founder of Huzi\, will focus on what brokers should actually be training agents on when it comes to AI\, along with practical guidance on implementing policies\, protocols\, and guardrails at the brokerage level.<br><br><strong fr-original-style="" style="font-weight: 700\;">Session 2</strong>: Consumer Protection &amp\; Scam Prevention Hear from the Oregon Department of Justice on real-world cases\, warning signs\, and strategies to help brokers and agents prevent fraud and better protect clients. Walk away with practical tools you can implement immediately.<br><br>Speakers:<br><br><strong data-end="376" data-start="346" fr-original-style="" style="font-weight: 700\;">Eric Post\, Founder of Huzi</strong><br data-start="376" data-end="379">Eric Post is a real estate and business consultant with 20+ years of experience. He has been involved in over 10\,000 transactions totaling $4B+ in sales and has owned multiple real estate and mortgage companies. Today\, he helps businesses leverage AI to improve efficiency and client experience while maintaining the human element of real estate.<br><br><strong data-end="810" data-start="732" fr-original-style="" style="font-weight: 700\;">Madeline Alvarado\, Consumer Advocacy Manager\, Oregon Department of Justice</strong><br data-start="810" data-end="813">Madeline oversees the DOJ&rsquo\;s Consumer Hotline and Complaint Program\, focusing on protecting Oregonians from fraud and strengthening consumer accountability. She previously led licensing\, education\, and complaint oversight at the Oregon Real Estate Agency and brings deep expertise in housing-related consumer protection.<br><br><strong data-end="1225" data-start="1139" fr-original-style="" style="font-weight: 700\;">Alhena Herrera Martin\, Consumer Outreach Coordinator\, Oregon Department of Justice</strong><br data-start="1225" data-end="1228">Alhena leads statewide outreach efforts to increase consumer awareness and help communities identify fraud and deceptive practices. Her background includes systems coordination\, training\, and cross-sector collaboration\, with a focus on delivering clear\, practical consumer protection resources.</p></body></html>
LOCATION:12753 SW 68th Ave. Rm #155 Portland 97223
UID:e.2453.1443013
SEQUENCE:3
DTSTAMP:20260421T140404Z
URL:https://members.pmar.org/events/Details/pmar-managing-broker-forum-ai-odoj-what-brokers-need-to-know-1709121?sourceTypeId=Hub
END:VEVENT
END:VCALENDAR
