BEGIN:VCALENDAR
VERSION:2.0
PRODID:-//ChamberMaster//Event Calendar 2.0//EN
METHOD:PUBLISH
X-PUBLISHED-TTL:P1H
REFRESH-INTERVAL:P1H
CALSCALE:GREGORIAN
BEGIN:VTIMEZONE
TZID:America/Los_Angeles
BEGIN:DAYLIGHT
RRULE:FREQ=YEARLY;BYMONTH=3;BYDAY=2SU
DTSTART:20070101T000000
TZOFFSETFROM:-0800
TZOFFSETTO:-0700
TZNAME:Pacific Daylight Time
END:DAYLIGHT
BEGIN:STANDARD
RRULE:FREQ=YEARLY;BYMONTH=11;BYDAY=1SU
DTSTART:20070101T000000
TZOFFSETFROM:-0700
TZOFFSETTO:-0800
TZNAME:Pacific Standard Time
END:STANDARD
END:VTIMEZONE
BEGIN:VEVENT
DTSTART;TZID=America/Los_Angeles:20260409T100000
DTEND;TZID=America/Los_Angeles:20260409T120000
X-MICROSOFT-CDO-ALLDAYEVENT:FALSE
SUMMARY:LARRC Oregon Law & Rule Required Course (LARRC)
DESCRIPTION:Included in PMAR Member Benefits\nNon-members $15\n\nLaw and Rule Required Course (LARRC)With the passage of House Bill 3137\, the Law and Rule Required Course (LARRC) is now a 2-hour required course. This update reflects recent changes in Oregon law and administrative rules affecting real estate practice.This course meets the requirement in ORS 696.174 for continuing education covering recent changes in real estate rule and law. All Oregon real estate licensees must complete LARRC through an Oregon Real Estate Board approved continuing education provider during each licensing cycle.Course content includes a focused review of recent legislative and regulatory updates\, including:  House Bill 3137 and implementing administrative rules\n  House Bill 2373 and implementing administrative rules\n  House Bill 3522\n  Senate Bill 586Participants will gain practical insight into how these changes impact legal responsibilities\, professional conduct\, and day-to-day real estate business.For details on the new State and Federal Fair Housing Course requirement\, visit:\nhttps://mailchi.mp/4fc19f9766d2/new-real-estate-ce-course-requirement-8942853?e=f643e49603\n\n1 HR CEInstructor:Kevin V. Harker\, Attorney\, Harker Law\nKevin V. Harker has practiced law since 2004\, specializing in community association law in Oregon\, Washington\, and Utah. A Lewis & Clark Law School graduate\, his work includes civil litigation\, construction defects\, and HOA law. He is a frequent speaker and author on real estate related legal topics. Outside of work\, Kevin enjoys woodworking\, mountain climbing\, skiing\, and spending time with his family.
X-ALT-DESC;FMTTYPE=text/html:<!DOCTYPE html><html><head><title></title></head><body aria-disabled="false"><p>Included in PMAR Member Benefits<br>Non-members $15<br><br><strong fr-original-style="" style="font-weight: 700\;">Law and Rule Required Course (LARRC)</strong></p><article data-scroll-anchor="true" data-testid="conversation-turn-6" data-turn="assistant" data-turn-id="request-WEB:55ae5143-9d10-4f8b-8150-6a03a5c1a2dc-4" dir="auto" tabindex="-1"><div tabindex="-1"><div data-message-author-role="assistant" data-message-id="879258f7-bc9e-46f4-a7b6-8c43233012d0" data-message-model-slug="gpt-5-2" dir="auto"><p data-end="496" data-start="279">With the passage of House Bill 3137\, the Law and Rule Required Course (LARRC) is now a 2-hour required course. This update reflects recent changes in Oregon law and administrative rules affecting real estate practice.</p><p data-end="781" data-start="498">This course meets the requirement in ORS 696.174 for continuing education covering recent changes in real estate rule and law. All Oregon real estate licensees must complete LARRC through an Oregon Real Estate Board&ndash\;approved continuing education provider during each licensing cycle.</p><p data-end="880" data-start="783">Course content includes a focused review of recent legislative and regulatory updates\, including:</p><p data-end="1037" data-start="882">&bull\; House Bill 3137 and implementing administrative rules<br data-start="937" data-end="940">&bull\; House Bill 2373 and implementing administrative rules<br data-start="995" data-end="998">&bull\; House Bill 3522<br data-start="1015" data-end="1018">&bull\; Senate Bill 586</p><p data-end="1192" data-start="1039">Participants will gain practical insight into how these changes impact legal responsibilities\, professional conduct\, and day-to-day real estate business.</p><p data-end="1367" data-start="1194">For details on the new State and Federal Fair Housing Course requirement\, visit:<br data-start="1274" data-end="1277"><a data-end="1367" data-start="1277" fr-original-style="" href="https://mailchi.mp/4fc19f9766d2/new-real-estate-ce-course-requirement-8942853?e=f643e49603" rel="noopener" style="user-select: auto\;" target="_new"><span style="font-size: 12px\;">https://mailchi.mp/4fc19f9766d2/new-real-estate-ce-course-requirement-8942853?e=f643e49603</span></a><br><br data-start="1391" data-end="1394">1 HR CE</p><p data-end="1403" data-start="1369">Instructor:</p><p data-end="1854" data-start="1405"><strong fr-original-style="" style="font-weight: 700\;">Kevin V. Harker\, Attorney\, Harker Law</strong><br data-start="1445" data-end="1448">Kevin V. Harker has practiced law since 2004\, specializing in community association law in Oregon\, Washington\, and Utah. A Lewis &amp\; Clark Law School graduate\, his work includes civil litigation\, construction defects\, and HOA law. He is a frequent speaker and author on real estate&ndash\;related legal topics. Outside of work\, Kevin enjoys woodworking\, mountain climbing\, skiing\, and spending time with his family.</p></div></div></article><div aria-hidden="true" data-edge="true"><br></div></body></html>
LOCATION:
UID:e.2453.1390871
SEQUENCE:3
DTSTAMP:20260419T150802Z
URL:https://members.pmar.org/events/Details/larrc-oregon-law-rule-required-course-larrc-1643039?sourceTypeId=Hub
END:VEVENT
END:VCALENDAR
